BEGIN:VCALENDAR
VERSION:2.0
CALSCALE:GREGORIAN
PRODID:-//Diputació de Barcelona//DibaCMS//EN
BEGIN:VEVENT
UID:3073
DTSTAMP:20260423T103534
DTSTART:20170226T113000
DTEND:20170226T130000
SUMMARY:Festa Carnestoltes Infantil
LOCATION:Plaça Lluís Companys i Plaça de les escoles 
METHOD:PUBLISH
X-WR-CALNAME:ullastrell@ullastrell.cat
X-WR-TIMEZONE:Europe/Madrid
DESCRIPTION:
URI:https://www.ullastrell.cat/actualitat/agenda/festa-carnestoltes-infantil.html
CLASS:PUBLIC
END:VEVENT
END:VCALENDAR
