BEGIN:VCALENDAR
VERSION:2.0
CALSCALE:GREGORIAN
PRODID:-//Diputació de Barcelona//DibaCMS//EN
BEGIN:VEVENT
UID:3074
DTSTAMP:20260423T152855
DTSTART:20170216T210000
DTEND:20170216T210000
SUMMARY:Xerrada a la Llar d'Infants El Cucut
LOCATION:Camí de Can Font, s/n 08231 Ullastrell
METHOD:PUBLISH
X-WR-CALNAME:ullastrell@ullastrell.cat
X-WR-TIMEZONE:Europe/Madrid
DESCRIPTION:"Com influeixen les pantalles en el desevolupament dels nostres infants"

URI:https://www.ullastrell.cat/actualitat/agenda/xerrada-a-la-llar-dinfants-el-cucut.html
CLASS:PUBLIC
END:VEVENT
END:VCALENDAR
