BEGIN:VCALENDAR
VERSION:2.0
CALSCALE:GREGORIAN
PRODID:-//Diputació de Barcelona//DibaCMS//EN
BEGIN:VEVENT
UID:3075
DTSTAMP:20260423T110315
DTSTART:20170204T090000
DTEND:20170204T133000
SUMMARY:Deixalleria mòbil
LOCATION:
 
METHOD:PUBLISH
X-WR-CALNAME:ullastrell@ullastrell.cat
X-WR-TIMEZONE:Europe/Madrid
DESCRIPTION:Cada primer dissabte de mes ens visita la Deixalleria Mòbil

URI:https://www.ullastrell.cat/actualitat/agenda/3075-deixalleria-mobil.html
CLASS:PUBLIC
END:VEVENT
END:VCALENDAR
