BEGIN:VCALENDAR
VERSION:2.0
CALSCALE:GREGORIAN
PRODID:-//Diputació de Barcelona//DibaCMS//EN
BEGIN:VEVENT
UID:3092
DTSTAMP:20260423T121130
DTSTART:20170219T183000
DTEND:20170219T183000
SUMMARY:XXVIII Mostra de Teatre - EL MISSANTROP
LOCATION:C/ Josep Fornell, s/n 08231 Ullastrell
METHOD:PUBLISH
X-WR-CALNAME:ullastrell@ullastrell.cat
X-WR-TIMEZONE:Europe/Madrid
DESCRIPTION:Obra de teatre representada dins La Mostra de teatre d'Ullastrell.

URI:https://www.ullastrell.cat/actualitat/agenda/xxviii-mostra-de-teatre-el-missantrop.html
CLASS:PUBLIC
END:VEVENT
END:VCALENDAR
