BEGIN:VCALENDAR
VERSION:2.0
CALSCALE:GREGORIAN
PRODID:-//Diputació de Barcelona//DibaCMS//EN
BEGIN:VEVENT
UID:3093
DTSTAMP:20260423T120953
DTSTART:20170215T173000
DTEND:20170215T173000
SUMMARY:Conte va... Conte ve...
LOCATION:C/ Josep Fornell, s/n 08231 Ullastrell
METHOD:PUBLISH
X-WR-CALNAME:ullastrell@ullastrell.cat
X-WR-TIMEZONE:Europe/Madrid
DESCRIPTION:Estrenem format d'espectacle infantil, tots dalt l'escenari!

URI:https://www.ullastrell.cat/actualitat/agenda/conte-va-conte-ve.html
CLASS:PUBLIC
END:VEVENT
END:VCALENDAR
