BEGIN:VCALENDAR
VERSION:2.0
CALSCALE:GREGORIAN
PRODID:-//Diputació de Barcelona//DibaCMS//EN
BEGIN:VEVENT
UID:3094
DTSTAMP:20260423T091450
DTSTART:20170219T093000
DTEND:20170219T093000
SUMMARY:ESCACS - Campionat Lliga Catalana
LOCATION:C/ Josep Fornell, s/n 08231 Ullastrell
METHOD:PUBLISH
X-WR-CALNAME:ullastrell@ullastrell.cat
X-WR-TIMEZONE:Europe/Madrid
DESCRIPTION:Ullastrell - Ripollet B

URI:https://www.ullastrell.cat/actualitat/agenda/escacs-campionat-lliga-catalana.html
CLASS:PUBLIC
END:VEVENT
END:VCALENDAR
