BEGIN:VCALENDAR
VERSION:2.0
CALSCALE:GREGORIAN
PRODID:-//Diputació de Barcelona//DibaCMS//EN
BEGIN:VEVENT
UID:3099
DTSTAMP:20260423T135034
DTSTART:20170226T183000
DTEND:20170226T193000
SUMMARY:Per Carnaval us espera l'artista local
LOCATION:C/ Josep Fornell, s/n 08231 Ullastrell
METHOD:PUBLISH
X-WR-CALNAME:ullastrell@ullastrell.cat
X-WR-TIMEZONE:Europe/Madrid
DESCRIPTION:Un any més un gran espectacle solidari

URI:https://www.ullastrell.cat/actualitat/agenda/3099-per-carnaval-us-espera-lartista-local.html
CLASS:PUBLIC
END:VEVENT
END:VCALENDAR
