BEGIN:VCALENDAR
VERSION:2.0
CALSCALE:GREGORIAN
PRODID:-//Diputació de Barcelona//DibaCMS//EN
BEGIN:VEVENT
UID:3103
DTSTAMP:20260423T200555
DTSTART:20170322T170000
DTEND:20170322T200000
SUMMARY:Jornada de portes obertes a l'IES de Viladecavalls
LOCATION:
METHOD:PUBLISH
X-WR-CALNAME:ullastrell@ullastrell.cat
X-WR-TIMEZONE:Europe/Madrid
DESCRIPTION:Obert a tothom que sigui del seu interès

URI:https://www.ullastrell.cat/actualitat/agenda/jornada-de-portes-obertes-a-lies-de-viladecavalls.html
CLASS:PUBLIC
END:VEVENT
END:VCALENDAR
