BEGIN:VCALENDAR
VERSION:2.0
CALSCALE:GREGORIAN
PRODID:-//Diputació de Barcelona//DibaCMS//EN
BEGIN:VEVENT
UID:3106
DTSTAMP:20260423T111643
DTSTART:20170224T213000
DTEND:20170224T233000
SUMMARY:Stopifly: Concert de Versions de Pop
LOCATION:C/Josep Fornell s/n  08231 Ullastrell
METHOD:PUBLISH
X-WR-CALNAME:ullastrell@ullastrell.cat
X-WR-TIMEZONE:Europe/Madrid
DESCRIPTION:Comencen els divendres musicals, aquest mes amb el duo Garcia&Riba, veniu a passar una bona estona al Casal tot sopant o fent algun beure.

URI:https://www.ullastrell.cat/actualitat/agenda/stopifly-concert-de-versions-de-pop.html
CLASS:PUBLIC
END:VEVENT
END:VCALENDAR
