BEGIN:VCALENDAR
VERSION:2.0
CALSCALE:GREGORIAN
PRODID:-//Diputació de Barcelona//DibaCMS//EN
BEGIN:VEVENT
UID:3109
DTSTAMP:20260423T080905
DTSTART:20170317T170000
DTEND:20170317T183000
SUMMARY:TALLER - Valors per fer-los créixer (2/2)
LOCATION:
METHOD:PUBLISH
X-WR-CALNAME:ullastrell@ullastrell.cat
X-WR-TIMEZONE:Europe/Madrid
DESCRIPTION:Com ser un exemple inspirador pels nostres fills i filles

URI:https://www.ullastrell.cat/actualitat/agenda/taller-valors-per-fer-los-creixer-22.html
CLASS:PUBLIC
END:VEVENT
END:VCALENDAR
