BEGIN:VCALENDAR
VERSION:2.0
CALSCALE:GREGORIAN
PRODID:-//Diputació de Barcelona//DibaCMS//EN
BEGIN:VEVENT
UID:3110
DTSTAMP:20260423T121054
DTSTART:20170308T170000
DTEND:20170308T183000
SUMMARY:Laboratoris de lectura
LOCATION:C/ Josep Fornell, s/n 08231 Ullastrell
METHOD:PUBLISH
X-WR-CALNAME:ullastrell@ullastrell.cat
X-WR-TIMEZONE:Europe/Madrid
DESCRIPTION:Avui és un bon dia per a canviar el món

URI:https://www.ullastrell.cat/actualitat/agenda/laboratoris-de-lectura.html
CLASS:PUBLIC
END:VEVENT
END:VCALENDAR
