BEGIN:VCALENDAR
VERSION:2.0
CALSCALE:GREGORIAN
PRODID:-//Diputació de Barcelona//DibaCMS//EN
BEGIN:VEVENT
UID:3111
DTSTAMP:20260423T153145
DTSTART:20170319T100000
DTEND:20170319T140000
SUMMARY:6a Cursa de Muntanya d'Ullastrell
LOCATION:
METHOD:PUBLISH
X-WR-CALNAME:ullastrell@ullastrell.cat
X-WR-TIMEZONE:Europe/Madrid
DESCRIPTION:Nova edició de la cursa de Serralavella

 

 

URI:https://www.ullastrell.cat/actualitat/agenda/6a-cursa-de-muntanya-dullastrell.html
CLASS:PUBLIC
END:VEVENT
END:VCALENDAR
