BEGIN:VCALENDAR
VERSION:2.0
CALSCALE:GREGORIAN
PRODID:-//Diputació de Barcelona//DibaCMS//EN
BEGIN:VEVENT
UID:3112
DTSTAMP:20260423T122138
DTSTART:20170304T090000
DTEND:20170304T133000
SUMMARY:Deixalleria mòbil
LOCATION:Pl. Lluís Companys de 9h. a 10:45h.
Pl. Serralavella de 10:50h. a 12:15h.
C/Arquitecte Alsius de 12:30h. a 13:30h. 
METHOD:PUBLISH
X-WR-CALNAME:ullastrell@ullastrell.cat
X-WR-TIMEZONE:Europe/Madrid
DESCRIPTION:Servei que s'ofereix cada primer dissabte de mes

URI:https://www.ullastrell.cat/actualitat/agenda/3112-deixalleria-mobil.html
CLASS:PUBLIC
END:VEVENT
END:VCALENDAR
