BEGIN:VCALENDAR
VERSION:2.0
CALSCALE:GREGORIAN
PRODID:-//Diputació de Barcelona//DibaCMS//EN
BEGIN:VEVENT
UID:3116
DTSTAMP:20260423T214847
DTSTART:20170311T190000
DTEND:20170311T190000
SUMMARY:Dia de la Dona
LOCATION:C/ Josep Fornell, s/n 08231 Ullastrell
METHOD:PUBLISH
X-WR-CALNAME:ullastrell@ullastrell.cat
X-WR-TIMEZONE:Europe/Madrid
DESCRIPTION:Celebració del dia de la Dona

URI:https://www.ullastrell.cat/actualitat/agenda/dia-de-la-dona.html
CLASS:PUBLIC
END:VEVENT
END:VCALENDAR
