BEGIN:VCALENDAR
VERSION:2.0
CALSCALE:GREGORIAN
PRODID:-//Diputació de Barcelona//DibaCMS//EN
BEGIN:VEVENT
UID:3118
DTSTAMP:20260423T131147
DTSTART:20170312T183000
DTEND:20170312T183000
SUMMARY:XXVIII Mostra de Teatre - LIKE A VIRGIN
LOCATION:C/ Josep Fornell, s/n 08231 Ullastrell
METHOD:PUBLISH
X-WR-CALNAME:ullastrell@ullastrell.cat
X-WR-TIMEZONE:Europe/Madrid
DESCRIPTION:Una obra de Diego García Fernández

URI:https://www.ullastrell.cat/actualitat/agenda/xxviii-mostra-de-teatre-like-a-virgin.html
CLASS:PUBLIC
END:VEVENT
END:VCALENDAR
