BEGIN:VCALENDAR
VERSION:2.0
CALSCALE:GREGORIAN
PRODID:-//Diputació de Barcelona//DibaCMS//EN
BEGIN:VEVENT
UID:3119
DTSTAMP:20260423T124957
DTSTART:20170315T173000
DTEND:20170315T173000
SUMMARY:Conte va, conte ve... EL PETIT ERIÇÓ
LOCATION:C/ Josep Fornell, s/n 08231 Ullastrell
METHOD:PUBLISH
X-WR-CALNAME:ullastrell@ullastrell.cat
X-WR-TIMEZONE:Europe/Madrid
DESCRIPTION:Conte popular lituà 

URI:https://www.ullastrell.cat/actualitat/agenda/conte-va-conte-ve-el-petit-erico.html
CLASS:PUBLIC
END:VEVENT
END:VCALENDAR
