BEGIN:VCALENDAR
VERSION:2.0
CALSCALE:GREGORIAN
PRODID:-//Diputació de Barcelona//DibaCMS//EN
BEGIN:VEVENT
UID:3121
DTSTAMP:20260423T170815
DTSTART:20170319T093000
DTEND:20170319T093000
SUMMARY:Campionat Escacs - Lliga Catalana
LOCATION:C/ Josep Fornell, s/n 08231 Ullastrell
METHOD:PUBLISH
X-WR-CALNAME:ullastrell@ullastrell.cat
X-WR-TIMEZONE:Europe/Madrid
DESCRIPTION:Ullastrell - Sant Quirze B

URI:https://www.ullastrell.cat/actualitat/agenda/3121-campionat-escacs-lliga-catalana.html
CLASS:PUBLIC
END:VEVENT
END:VCALENDAR
