BEGIN:VCALENDAR
VERSION:2.0
CALSCALE:GREGORIAN
PRODID:-//Diputació de Barcelona//DibaCMS//EN
BEGIN:VEVENT
UID:3122
DTSTAMP:20260423T141122
DTSTART:20170322T213000
DTEND:20170322T213000
SUMMARY:THE SEY SISTERS en concert
LOCATION:C/ Josep Fornell, s/n 08231 Ullastrell
METHOD:PUBLISH
X-WR-CALNAME:ullastrell@ullastrell.cat
X-WR-TIMEZONE:Europe/Madrid
DESCRIPTION:Ullastrell escenari del Festival Jazz Terrassa

URI:https://www.ullastrell.cat/actualitat/agenda/the-sey-sisters-en-concert.html
CLASS:PUBLIC
END:VEVENT
END:VCALENDAR
