BEGIN:VCALENDAR
VERSION:2.0
CALSCALE:GREGORIAN
PRODID:-//Diputació de Barcelona//DibaCMS//EN
BEGIN:VEVENT
UID:3123
DTSTAMP:20260423T195919
DTSTART:20170326T190000
DTEND:20170326T190000
SUMMARY:Música Jazz amb...
LOCATION:C/Josep Fornell s/n  08231 Ullastrell
METHOD:PUBLISH
X-WR-CALNAME:ullastrell@ullastrell.cat
X-WR-TIMEZONE:Europe/Madrid
DESCRIPTION:Ullastrell escenari del Festival Jazz Terrassa

URI:https://www.ullastrell.cat/actualitat/agenda/musica-jazz-amb.html
CLASS:PUBLIC
END:VEVENT
END:VCALENDAR
