BEGIN:VCALENDAR
VERSION:2.0
CALSCALE:GREGORIAN
PRODID:-//Diputació de Barcelona//DibaCMS//EN
BEGIN:VEVENT
UID:3124
DTSTAMP:20260423T124439
DTSTART:20170326T090000
DTEND:20170326T130000
SUMMARY:XXIIª Trobada Gegantera
LOCATION:
METHOD:PUBLISH
X-WR-CALNAME:ullastrell@ullastrell.cat
X-WR-TIMEZONE:Europe/Madrid
DESCRIPTION:Acte dins les Festes de Serralavella

URI:https://www.ullastrell.cat/actualitat/agenda/xxiia-trobada-gegantera.html
CLASS:PUBLIC
END:VEVENT
END:VCALENDAR
