BEGIN:VCALENDAR
VERSION:2.0
CALSCALE:GREGORIAN
PRODID:-//Diputació de Barcelona//DibaCMS//EN
BEGIN:VEVENT
UID:3125
DTSTAMP:20260423T111842
DTSTART:20170316T120000
DTEND:20170316T130000
SUMMARY:Oficina mòbil del Consumidor
LOCATION:C/ Serra, 17 08231 Ullastrell
METHOD:PUBLISH
X-WR-CALNAME:ullastrell@ullastrell.cat
X-WR-TIMEZONE:Europe/Madrid
DESCRIPTION:Servei gratuït de la Diputació de Barcelona

URI:https://www.ullastrell.cat/actualitat/agenda/oficina-mobil-del-consumidor.html
CLASS:PUBLIC
END:VEVENT
END:VCALENDAR
