BEGIN:VCALENDAR
VERSION:2.0
CALSCALE:GREGORIAN
PRODID:-//Diputació de Barcelona//DibaCMS//EN
BEGIN:VEVENT
UID:3128
DTSTAMP:20260423T134003
DTSTART:20170317T190000
DTEND:20170317T220000
SUMMARY:Jove! Digues la teva!
LOCATION:Plaça de les escoles, 1 08231 Ullastrell
METHOD:PUBLISH
X-WR-CALNAME:ullastrell@ullastrell.cat
X-WR-TIMEZONE:Europe/Madrid
DESCRIPTION:Procès participatiu per a la diagnòsi del Pla Local de Joventut

URI:https://www.ullastrell.cat/actualitat/agenda/jove-digues-la-teva.html
CLASS:PUBLIC
END:VEVENT
END:VCALENDAR
