BEGIN:VCALENDAR
VERSION:2.0
CALSCALE:GREGORIAN
PRODID:-//Diputació de Barcelona//DibaCMS//EN
BEGIN:VEVENT
UID:3134
DTSTAMP:20260423T155340
DTSTART:20170322T160000
DTEND:20170322T190000
SUMMARY:Pregó inici de Festa de Serralavella i cantada per tot el poble
LOCATION:C/ Serra, 17 08231 Ullastrell
METHOD:PUBLISH
X-WR-CALNAME:ullastrell@ullastrell.cat
X-WR-TIMEZONE:Europe/Madrid
DESCRIPTION:Avui es la Serralavella i donem el tret de sortida a cinc dies d'activitats

URI:https://www.ullastrell.cat/actualitat/agenda/prego-inici-de-festa-de-serralavella-i-cantada-per-tot-el-poble.html
CLASS:PUBLIC
END:VEVENT
END:VCALENDAR
