BEGIN:VCALENDAR
VERSION:2.0
CALSCALE:GREGORIAN
PRODID:-//Diputació de Barcelona//DibaCMS//EN
BEGIN:VEVENT
UID:3135
DTSTAMP:20260423T183359
DTSTART:20170322T193000
DTEND:20170326T140000
SUMMARY:Exposició de Caps Grossos
LOCATION:C/ Serra 37 08231 Ullastrell
METHOD:PUBLISH
X-WR-CALNAME:ullastrell@ullastrell.cat
X-WR-TIMEZONE:Europe/Madrid
DESCRIPTION:Inauguració de l'exposició dimecres 22 a les 19:30h.

URI:https://www.ullastrell.cat/actualitat/agenda/exposicio-de-caps-grossos.html
CLASS:PUBLIC
END:VEVENT
END:VCALENDAR
