BEGIN:VCALENDAR
VERSION:2.0
CALSCALE:GREGORIAN
PRODID:-//Diputació de Barcelona//DibaCMS//EN
BEGIN:VEVENT
UID:3136
DTSTAMP:20260423T122100
DTSTART:20170323T170000
DTEND:20170323T180000
SUMMARY:L'hora del conte amb la Vella Quaresma
LOCATION:C/ Josep Fornell, s/n 08231 Ullastrell
METHOD:PUBLISH
X-WR-CALNAME:ullastrell@ullastrell.cat
X-WR-TIMEZONE:Europe/Madrid
DESCRIPTION:
URI:https://www.ullastrell.cat/actualitat/agenda/lhora-del-conte-amb-la-vella-quaresma.html
CLASS:PUBLIC
END:VEVENT
END:VCALENDAR
