BEGIN:VCALENDAR
VERSION:2.0
CALSCALE:GREGORIAN
PRODID:-//Diputació de Barcelona//DibaCMS//EN
BEGIN:VEVENT
UID:3137
DTSTAMP:20260423T110448
DTSTART:20170323T200000
DTEND:20170323T200000
SUMMARY:Xe Concurs de Cuina de Quaresma
LOCATION:C/ Josep Fornell, s/n 08231 Ullastrell
METHOD:PUBLISH
X-WR-CALNAME:ullastrell@ullastrell.cat
X-WR-TIMEZONE:Europe/Madrid
DESCRIPTION:Consulta les bases de participació

URI:https://www.ullastrell.cat/actualitat/agenda/xe-concurs-de-cuina-de-quaresma.html
CLASS:PUBLIC
END:VEVENT
END:VCALENDAR
