BEGIN:VCALENDAR
VERSION:2.0
CALSCALE:GREGORIAN
PRODID:-//Diputació de Barcelona//DibaCMS//EN
BEGIN:VEVENT
UID:3138
DTSTAMP:20260423T134807
DTSTART:20170323T213000
DTEND:20170323T213000
SUMMARY:Xerrada  - Final del procés. Dubtes?  amb Jordi Sánchez
LOCATION:C/ Josep Fornell, s/n 08231 Ullastrell
METHOD:PUBLISH
X-WR-CALNAME:ullastrell@ullastrell.cat
X-WR-TIMEZONE:Europe/Madrid
DESCRIPTION:Xerrada organitzada per ANC-Ullastrell

URI:https://www.ullastrell.cat/actualitat/agenda/xerrada-final-del-proces-dubtes-amb-jordi-sanchez.html
CLASS:PUBLIC
END:VEVENT
END:VCALENDAR
