BEGIN:VCALENDAR
VERSION:2.0
CALSCALE:GREGORIAN
PRODID:-//Diputació de Barcelona//DibaCMS//EN
BEGIN:VEVENT
UID:3139
DTSTAMP:20260423T111820
DTSTART:20170324T200000
DTEND:20170324T210000
SUMMARY:Taller de swing
LOCATION:C/ Josep Fornell, s/n 08231 Ullastrell
METHOD:PUBLISH
X-WR-CALNAME:ullastrell@ullastrell.cat
X-WR-TIMEZONE:Europe/Madrid
DESCRIPTION:T'apuntes a ballar?

URI:https://www.ullastrell.cat/actualitat/agenda/taller-de-swing.html
CLASS:PUBLIC
END:VEVENT
END:VCALENDAR
