BEGIN:VCALENDAR
VERSION:2.0
CALSCALE:GREGORIAN
PRODID:-//Diputació de Barcelona//DibaCMS//EN
BEGIN:VEVENT
UID:3140
DTSTAMP:20260423T134327
DTSTART:20170324T220000
DTEND:20170324T220000
SUMMARY:Concert JOVE
LOCATION:Gimnàs Escola Vella
Pl. de les Escoles 
METHOD:PUBLISH
X-WR-CALNAME:ullastrell@ullastrell.cat
X-WR-TIMEZONE:Europe/Madrid
DESCRIPTION:Acte dins les Festes de Serralavella

URI:https://www.ullastrell.cat/actualitat/agenda/3140-concert-jove.html
CLASS:PUBLIC
END:VEVENT
END:VCALENDAR
