BEGIN:VCALENDAR
VERSION:2.0
CALSCALE:GREGORIAN
PRODID:-//Diputació de Barcelona//DibaCMS//EN
BEGIN:VEVENT
UID:3148
DTSTAMP:20260423T134639
DTSTART:20170325T193000
DTEND:20170325T210000
SUMMARY:XII Trobada de Cant Coral
LOCATION:C/ Josep Fornell, s/n 08231 Ullastrell
METHOD:PUBLISH
X-WR-CALNAME:ullastrell@ullastrell.cat
X-WR-TIMEZONE:Europe/Madrid
DESCRIPTION:Acte dins les Festes de Serralavella

URI:https://www.ullastrell.cat/actualitat/agenda/xii-trobada-de-cant-coral.html
CLASS:PUBLIC
END:VEVENT
END:VCALENDAR
