BEGIN:VCALENDAR
VERSION:2.0
CALSCALE:GREGORIAN
PRODID:-//Diputació de Barcelona//DibaCMS//EN
BEGIN:VEVENT
UID:3153
DTSTAMP:20260423T082023
DTSTART:20170401T183000
DTEND:20170401T230000
SUMMARY:Tarda de Jazz
LOCATION:C/Josep Fornell s/n  08231 Ullastrell
METHOD:PUBLISH
X-WR-CALNAME:ullastrell@ullastrell.cat
X-WR-TIMEZONE:Europe/Madrid
DESCRIPTION:Dins els actes del 36è festival de Jazz de Terrassa

URI:https://www.ullastrell.cat/actualitat/agenda/tarda-de-jazz.html
CLASS:PUBLIC
END:VEVENT
END:VCALENDAR
