BEGIN:VCALENDAR
VERSION:2.0
CALSCALE:GREGORIAN
PRODID:-//Diputació de Barcelona//DibaCMS//EN
BEGIN:VEVENT
UID:3155
DTSTAMP:20260423T143700
DTSTART:20170402T183000
DTEND:20170402T183000
SUMMARY:XXVIIIª MOSTRA TEATRE - T10
LOCATION:C/ Josep Fornell, s/n 08231 Ullastrell
METHOD:PUBLISH
X-WR-CALNAME:ullastrell@ullastrell.cat
X-WR-TIMEZONE:Europe/Madrid
DESCRIPTION:Mostra de Teatre Amater organitzada pel GATU

URI:https://www.ullastrell.cat/actualitat/agenda/xxviiia-mostra-teatre-t10.html
CLASS:PUBLIC
END:VEVENT
END:VCALENDAR
