BEGIN:VCALENDAR
VERSION:2.0
CALSCALE:GREGORIAN
PRODID:-//Diputació de Barcelona//DibaCMS//EN
BEGIN:VEVENT
UID:3157
DTSTAMP:20260423T095121
DTSTART:20170409T190000
DTEND:20170409T200000
SUMMARY:STOPIFLY - Concert amb Wild Coats
LOCATION:C/Josep Fornell s/n  08231 Ullastrell
METHOD:PUBLISH
X-WR-CALNAME:ullastrell@ullastrell.cat
X-WR-TIMEZONE:Europe/Madrid
DESCRIPTION:Funky-Rock, amb temes pròpis i versions.

Guanyadors del "Engresca't 2017"

URI:https://www.ullastrell.cat/actualitat/agenda/stopifly-concert-amb-wild-coats.html
CLASS:PUBLIC
END:VEVENT
END:VCALENDAR
