BEGIN:VCALENDAR
VERSION:2.0
CALSCALE:GREGORIAN
PRODID:-//Diputació de Barcelona//DibaCMS//EN
BEGIN:VEVENT
UID:3160
DTSTAMP:20260423T170920
DTSTART:20170427T200000
DTEND:20170427T210500
SUMMARY:Xerrada informativa: Tens clàusula sòl?
LOCATION:C/ Serra, 17 08231 Ullastrell
METHOD:PUBLISH
X-WR-CALNAME:ullastrell@ullastrell.cat
X-WR-TIMEZONE:Europe/Madrid
DESCRIPTION:L'Oficina del Consumidor de la Diputació de Barcelona ofereix aquesta xerrada

URI:https://www.ullastrell.cat/actualitat/agenda/xerrada-informativa-tens-clausula-sol.html
CLASS:PUBLIC
END:VEVENT
END:VCALENDAR
