BEGIN:VCALENDAR
VERSION:2.0
CALSCALE:GREGORIAN
PRODID:-//Diputació de Barcelona//DibaCMS//EN
BEGIN:VEVENT
UID:3164
DTSTAMP:20260423T200151
DTSTART:20170421T200000
DTEND:20170421T210000
SUMMARY:Inauguració Exposició de la primera trobada sketcher d'Ullastrell
LOCATION:C/ Serra 37 08231 Ullastrell
METHOD:PUBLISH
X-WR-CALNAME:ullastrell@ullastrell.cat
X-WR-TIMEZONE:Europe/Madrid
DESCRIPTION:
URI:https://www.ullastrell.cat/actualitat/agenda/inauguracio-exposicio-de-la-primera-trobada-sketcher-dullastrell.html
CLASS:PUBLIC
END:VEVENT
END:VCALENDAR
