BEGIN:VCALENDAR
VERSION:2.0
CALSCALE:GREGORIAN
PRODID:-//Diputació de Barcelona//DibaCMS//EN
BEGIN:VEVENT
UID:3166
DTSTAMP:20260423T171144
DTSTART:20170422T170000
DTEND:20170422T190000
SUMMARY:Assaig general caramelles 2017
LOCATION:C/ Josep Fornell, s/n 08231 Ullastrell
METHOD:PUBLISH
X-WR-CALNAME:ullastrell@ullastrell.cat
X-WR-TIMEZONE:Europe/Madrid
DESCRIPTION:Única sessió d'assaig!

URI:https://www.ullastrell.cat/actualitat/agenda/assaig-general-caramelles-2017.html
CLASS:PUBLIC
END:VEVENT
END:VCALENDAR
