BEGIN:VCALENDAR
VERSION:2.0
CALSCALE:GREGORIAN
PRODID:-//Diputació de Barcelona//DibaCMS//EN
BEGIN:VEVENT
UID:3167
DTSTAMP:20260423T123537
DTSTART:20170423T101500
DTEND:20170423T131500
SUMMARY:Caramelles 2017 - Diada de Pasqüetes
LOCATION:
METHOD:PUBLISH
X-WR-CALNAME:ullastrell@ullastrell.cat
X-WR-TIMEZONE:Europe/Madrid
DESCRIPTION:Cantem caramelles,...

URI:https://www.ullastrell.cat/actualitat/agenda/caramelles-2017-diada-de-pasquetes.html
CLASS:PUBLIC
END:VEVENT
END:VCALENDAR
