BEGIN:VCALENDAR
VERSION:2.0
CALSCALE:GREGORIAN
PRODID:-//Diputació de Barcelona//DibaCMS//EN
BEGIN:VEVENT
UID:3168
DTSTAMP:20260423T131245
DTSTART:20170414T200000
DTEND:20170414T200000
SUMMARY:Via Crucis pels carrers del poble
LOCATION:Plaça de l'església, 2 08231 Ullastrell
METHOD:PUBLISH
X-WR-CALNAME:ullastrell@ullastrell.cat
X-WR-TIMEZONE:Europe/Madrid
DESCRIPTION:A les 20h. surt, des de l'església, la processó de Setmana Santa fent el Via Crucis pels carrers del poble.

URI:https://www.ullastrell.cat/actualitat/agenda/3168-via-crucis-pels-carrers-del-poble.html
CLASS:PUBLIC
END:VEVENT
END:VCALENDAR
