BEGIN:VCALENDAR
VERSION:2.0
CALSCALE:GREGORIAN
PRODID:-//Diputació de Barcelona//DibaCMS//EN
BEGIN:VEVENT
UID:3169
DTSTAMP:20260423T183500
DTSTART:20170420T213000
DTEND:20170420T223000
SUMMARY:Acte públic del Govern Municipal
LOCATION:C/ Serra, 17 08231 Ullastrell
METHOD:PUBLISH
X-WR-CALNAME:ullastrell@ullastrell.cat
X-WR-TIMEZONE:Europe/Madrid
DESCRIPTION:A la Sala Reunions de l'Ajuntament

URI:https://www.ullastrell.cat/actualitat/agenda/acte-public-del-govern-municipal.html
CLASS:PUBLIC
END:VEVENT
END:VCALENDAR
