BEGIN:VCALENDAR
VERSION:2.0
CALSCALE:GREGORIAN
PRODID:-//Diputació de Barcelona//DibaCMS//EN
BEGIN:VEVENT
UID:3170
DTSTAMP:20260423T185534
DTSTART:20170419T173000
DTEND:20170419T183000
SUMMARY:Conte va, conte ve... amb Marta Tricuera
LOCATION:C/ Josep Fornell, s/n 08231 Ullastrell
METHOD:PUBLISH
X-WR-CALNAME:ullastrell@ullastrell.cat
X-WR-TIMEZONE:Europe/Madrid
DESCRIPTION:Nova edició del contes pels infants

URI:https://www.ullastrell.cat/actualitat/agenda/conte-va-conte-ve-amb-marta-tricuera.html
CLASS:PUBLIC
END:VEVENT
END:VCALENDAR
