BEGIN:VCALENDAR
VERSION:2.0
CALSCALE:GREGORIAN
PRODID:-//Diputació de Barcelona//DibaCMS//EN
BEGIN:VEVENT
UID:3171
DTSTAMP:20260423T153118
DTSTART:20170419T200000
DTEND:20170419T200000
SUMMARY:Ple ordinari trimestral
LOCATION:C/ Serra, 17 08231 Ullastrell
METHOD:PUBLISH
X-WR-CALNAME:ullastrell@ullastrell.cat
X-WR-TIMEZONE:Europe/Madrid
DESCRIPTION:A la Sala de Plens de l'Ajuntament

URI:https://www.ullastrell.cat/actualitat/agenda/3171-ple-ordinari-trimestral.html
CLASS:PUBLIC
END:VEVENT
END:VCALENDAR
