BEGIN:VCALENDAR
VERSION:2.0
CALSCALE:GREGORIAN
PRODID:-//Diputació de Barcelona//DibaCMS//EN
BEGIN:VEVENT
UID:3172
DTSTAMP:20260423T153257
DTSTART:20170422T120000
DTEND:20170422T120000
SUMMARY:Contes Cantats i Encantats! amb Miqui Giménez
LOCATION:Camí de Can Font, s/n 08231 Ullastrell
METHOD:PUBLISH
X-WR-CALNAME:ullastrell@ullastrell.cat
X-WR-TIMEZONE:Europe/Madrid
DESCRIPTION:Espai familiar El Cucut

URI:https://www.ullastrell.cat/actualitat/agenda/contes-cantats-i-encantats-amb-miqui-gimenez.html
CLASS:PUBLIC
END:VEVENT
END:VCALENDAR
