BEGIN:VCALENDAR
VERSION:2.0
CALSCALE:GREGORIAN
PRODID:-//Diputació de Barcelona//DibaCMS//EN
BEGIN:VEVENT
UID:3173
DTSTAMP:20260423T134549
DTSTART:20170423T123000
DTEND:20170423T193000
SUMMARY:Festa de la Gent Gran
LOCATION:
METHOD:PUBLISH
X-WR-CALNAME:ullastrell@ullastrell.cat
X-WR-TIMEZONE:Europe/Madrid
DESCRIPTION:Ullastrell ret homenatge a la Gent Gran del poble

URI:https://www.ullastrell.cat/actualitat/agenda/festa-de-la-gent-gran.html
CLASS:PUBLIC
END:VEVENT
END:VCALENDAR
