BEGIN:VCALENDAR
VERSION:2.0
CALSCALE:GREGORIAN
PRODID:-//Diputació de Barcelona//DibaCMS//EN
BEGIN:VEVENT
UID:3175
DTSTAMP:20260423T152613
DTSTART:20170423T103000
DTEND:20170423T140000
SUMMARY:Fira de Sant Jordi
LOCATION:
METHOD:PUBLISH
X-WR-CALNAME:ullastrell@ullastrell.cat
X-WR-TIMEZONE:Europe/Madrid
DESCRIPTION:Llibres, roses, pa de Sant Jordi,...

URI:https://www.ullastrell.cat/actualitat/agenda/fira-de-sant-jordi.html
CLASS:PUBLIC
END:VEVENT
END:VCALENDAR
