BEGIN:VCALENDAR
VERSION:2.0
CALSCALE:GREGORIAN
PRODID:-//Diputació de Barcelona//DibaCMS//EN
BEGIN:VEVENT
UID:3176
DTSTAMP:20260423T122028
DTSTART:20170423T180000
DTEND:20170423T180000
SUMMARY:Teatre: 7 D'AMOR 
LOCATION:C/ Josep Fornell, s/n 08231 Ullastrell
METHOD:PUBLISH
X-WR-CALNAME:ullastrell@ullastrell.cat
X-WR-TIMEZONE:Europe/Madrid
DESCRIPTION:Acte inclòs dins la Festa de la Gent Gran. Obert a tothom

URI:https://www.ullastrell.cat/actualitat/agenda/teatre-7-damor-.html
CLASS:PUBLIC
END:VEVENT
END:VCALENDAR
