BEGIN:VCALENDAR
VERSION:2.0
CALSCALE:GREGORIAN
PRODID:-//Diputació de Barcelona//DibaCMS//EN
BEGIN:VEVENT
UID:3178
DTSTAMP:20260423T183146
DTSTART:20170424T160000
DTEND:20170424T190000
SUMMARY:Curs manipulador aliments
LOCATION:C/ Serra, 17 08231 Ullastrell
METHOD:PUBLISH
X-WR-CALNAME:ullastrell@ullastrell.cat
X-WR-TIMEZONE:Europe/Madrid
DESCRIPTION:
URI:https://www.ullastrell.cat/actualitat/agenda/curs-manipulador-aliments.html
CLASS:PUBLIC
END:VEVENT
END:VCALENDAR
