BEGIN:VCALENDAR
VERSION:2.0
CALSCALE:GREGORIAN
PRODID:-//Diputació de Barcelona//DibaCMS//EN
BEGIN:VEVENT
UID:3183
DTSTAMP:20260423T201122
DTSTART:20170426T170000
DTEND:20170426T180500
SUMMARY:Taller de Sant Jordi
LOCATION:C/ Josep Fornell, s/n 08231 Ullastrell
METHOD:PUBLISH
X-WR-CALNAME:ullastrell@ullastrell.cat
X-WR-TIMEZONE:Europe/Madrid
DESCRIPTION:Taller de Sant Jordi i berenar amb pa i xocolata

URI:https://www.ullastrell.cat/actualitat/agenda/taller-de-sant-jordi.html
CLASS:PUBLIC
END:VEVENT
END:VCALENDAR
