BEGIN:VCALENDAR
VERSION:2.0
CALSCALE:GREGORIAN
PRODID:-//Diputació de Barcelona//DibaCMS//EN
BEGIN:VEVENT
UID:3185
DTSTAMP:20260423T183604
DTSTART:20170421T173000
DTEND:20170421T213000
SUMMARY:Assemblea de joves i pel·licula
LOCATION:Plaça de les escoles, 1 08231 Ullastrell
METHOD:PUBLISH
X-WR-CALNAME:ullastrell@ullastrell.cat
X-WR-TIMEZONE:Europe/Madrid
DESCRIPTION:Divendres 21 Assemblea de l'espai Jove, 

A les 17:30 amb els i les joves de menys de 16 anys

A les 20:30h amb els i les joves de més de 16 anys. 



URI:https://www.ullastrell.cat/actualitat/agenda/assemblea-de-joves-i-pellicula.html
CLASS:PUBLIC
END:VEVENT
END:VCALENDAR
