BEGIN:VCALENDAR
VERSION:2.0
CALSCALE:GREGORIAN
PRODID:-//Diputació de Barcelona//DibaCMS//EN
BEGIN:VEVENT
UID:3194
DTSTAMP:20260423T164935
DTSTART:20170430T120000
DTEND:20170430T140000
SUMMARY:EXPOSICIÓ Dibuixos Sketcher
LOCATION:C/ Serra 37 08231 Ullastrell
METHOD:PUBLISH
X-WR-CALNAME:ullastrell@ullastrell.cat
X-WR-TIMEZONE:Europe/Madrid
DESCRIPTION:Dibuixos realitzats durant la 1ª Trobada d'Sketchers a Ullastrell a la Fira de l'Oli 2017

URI:https://www.ullastrell.cat/actualitat/agenda/3194-exposicio-dibuixos-sketcher.html
CLASS:PUBLIC
END:VEVENT
END:VCALENDAR
