BEGIN:VCALENDAR
VERSION:2.0
CALSCALE:GREGORIAN
PRODID:-//Diputació de Barcelona//DibaCMS//EN
BEGIN:VEVENT
UID:3195
DTSTAMP:20260423T081101
DTSTART:20170503T213000
DTEND:20170503T213000
SUMMARY:Reunió de barri: CA N'AMAT - LA VALL
LOCATION:
METHOD:PUBLISH
X-WR-CALNAME:ullastrell@ullastrell.cat
X-WR-TIMEZONE:Europe/Madrid
DESCRIPTION:Amb la voluntat d’escoltar de prop les diferents opinions dels veïns, propostes, crítiques, idees, suggerències, queixes,... El Govern municipal va engegar les “Reunions de Barri”.

 

URI:https://www.ullastrell.cat/actualitat/agenda/reunio-de-barri-ca-namat-la-vall.html
CLASS:PUBLIC
END:VEVENT
END:VCALENDAR
